BEGIN:VCALENDAR
VERSION:2.0
PRODID:-//Cultural Arequipa - ECPv6.0.13//NONSGML v1.0//EN
CALSCALE:GREGORIAN
METHOD:PUBLISH
X-WR-CALNAME:Cultural Arequipa
X-ORIGINAL-URL:https://cultural.edu.pe
X-WR-CALDESC:Eventos para Cultural Arequipa
REFRESH-INTERVAL;VALUE=DURATION:PT1H
X-Robots-Tag:noindex
X-PUBLISHED-TTL:PT1H
BEGIN:VTIMEZONE
TZID:America/New_York
BEGIN:DAYLIGHT
TZOFFSETFROM:-0500
TZOFFSETTO:-0400
TZNAME:EDT
DTSTART:20210314T070000
END:DAYLIGHT
BEGIN:STANDARD
TZOFFSETFROM:-0400
TZOFFSETTO:-0500
TZNAME:EST
DTSTART:20211107T060000
END:STANDARD
END:VTIMEZONE
BEGIN:VEVENT
DTSTART;TZID=America/New_York:20210724T160000
DTEND;TZID=America/New_York:20210724T163000
DTSTAMP:20260425T230534
CREATED:20210701T211200Z
LAST-MODIFIED:20210701T211200Z
UID:5561-1627142400-1627144200@cultural.edu.pe
SUMMARY:Cuentacuentos virtual: El mago Merlín
DESCRIPTION:La historia del mago más famoso de todos los tiempos\, y cómo logró ayudar a los caballeros de la mesa redonda y convertir en rey a Arturo.\n  \n 
URL:https://cultural.edu.pe/eventos/cuentacuentos-el-mago-merlin/
LOCATION:Facebook Live\, Perú
CATEGORIES:Artes escénicas,Presentaciones
ATTACH;FMTTYPE=image/jpeg:https://cultural.edu.pe/wp-content/uploads/2021/07/cuentacuentos-el-mago-Merlin.jpg
END:VEVENT
BEGIN:VEVENT
DTSTART;TZID=America/New_York:20210724T180000
DTEND;TZID=America/New_York:20210724T183000
DTSTAMP:20260425T230534
CREATED:20210705T143001Z
LAST-MODIFIED:20210705T143001Z
UID:5564-1627149600-1627151400@cultural.edu.pe
SUMMARY:Cuentacuentos virtual: Cuentos andinos musicalizados
DESCRIPTION:Estos cuentos andinos musicalizados retratan la identidad de nuestro país\, nos permiten conocer su realidad y el misticismo que lo habita. La música termina de envolver al público en el ambiente y conectar con nuestra propia tradición. \n  \n 
URL:https://cultural.edu.pe/eventos/cuentos-andinos-musicalizados/
LOCATION:Facebook Live\, Perú
CATEGORIES:Artes escénicas,Música,Presentaciones
ATTACH;FMTTYPE=image/jpeg:https://cultural.edu.pe/wp-content/uploads/2021/07/cuentos-musicalizados.jpg
END:VEVENT
END:VCALENDAR