BEGIN:VCALENDAR
VERSION:2.0
PRODID:-//Cultural Arequipa - ECPv6.0.13//NONSGML v1.0//EN
CALSCALE:GREGORIAN
METHOD:PUBLISH
X-ORIGINAL-URL:https://cultural.edu.pe
X-WR-CALDESC:Eventos para Cultural Arequipa
REFRESH-INTERVAL;VALUE=DURATION:PT1H
X-Robots-Tag:noindex
X-PUBLISHED-TTL:PT1H
BEGIN:VTIMEZONE
TZID:America/New_York
BEGIN:DAYLIGHT
TZOFFSETFROM:-0500
TZOFFSETTO:-0400
TZNAME:EDT
DTSTART:20250309T070000
END:DAYLIGHT
BEGIN:STANDARD
TZOFFSETFROM:-0400
TZOFFSETTO:-0500
TZNAME:EST
DTSTART:20251102T060000
END:STANDARD
END:VTIMEZONE
BEGIN:VEVENT
DTSTART;TZID=America/New_York:20251107T193000
DTEND;TZID=America/New_York:20251107T193000
DTSTAMP:20260422T123047
CREATED:20250329T214559Z
LAST-MODIFIED:20251029T222047Z
UID:13519-1762543800-1762543800@cultural.edu.pe
SUMMARY:Inauguración de la exposición: "La piel del firmamento"
DESCRIPTION:🎨 Muestra plástica: La piel del firmamento     Artista: Chalo Guevara\nEl Centro Cultural Peruano Norteamericano presenta «La piel del firmamento»\, una exposición donde el arte invita a mirar más allá de lo visible. \nLas obras de Chalo Guevara juegan con la percepción y la interpretación: evocan mapas urbanos\, pero en realidad son estructuras tangibles de madera\, composiciones abstractas que exploran el relieve y el bajorrelieve. Inspirado en la estética de las vistas aéreas de las ciudades\, el artista no busca representar la urbe\, sino ofrecer una mirada profunda y reflexiva sobre la existencia humana. \nCada pieza es un complejo esquema afectivo\, una topografía emocional que nos lleva a pensar en el paso del tiempo y en la naturaleza efímera de la vida. \n📅 Inauguración:\nViernes 7 de noviembre\, 19:30 h \n📍 Lugar:\nGalería de Arte\, Calle Melgar 109 – Arequipa \n🕒 Exposición abierta: del 7 de noviembre al 2 de diciembreLunes a viernes: 8:30 a. m. – 7:30 p. m.Sábados: 10:00 a. m. – 4:00 p. m. \n✨ Ingreso libre \n✨ ¡Ven y descubre «La piel del firmamento»\, una muestra que revela la profundidad y belleza de lo intangible! 🎨
URL:https://cultural.edu.pe/eventos/inauguracion-de-la-exposicion-la-piel-del-firmamento/
LOCATION:Galería de Arte\, Calle Melgar 109\, Arequipa\, Arequipa\, 04001
CATEGORIES:Artes escénicas,Artes visuales,Exposiciones
ATTACH;FMTTYPE=image/png:https://cultural.edu.pe/wp-content/uploads/2025/03/Post-Web-Inauguracion-1.png
ORGANIZER;CN="Cultural":MAILTO:cultura@cultural.edu.pe
END:VEVENT
END:VCALENDAR