BEGIN:VCALENDAR
VERSION:2.0
PRODID:-//Cultural Arequipa - ECPv6.0.13//NONSGML v1.0//EN
CALSCALE:GREGORIAN
METHOD:PUBLISH
X-WR-CALNAME:Cultural Arequipa
X-ORIGINAL-URL:https://cultural.edu.pe
X-WR-CALDESC:Eventos para Cultural Arequipa
REFRESH-INTERVAL;VALUE=DURATION:PT1H
X-Robots-Tag:noindex
X-PUBLISHED-TTL:PT1H
BEGIN:VTIMEZONE
TZID:America/New_York
BEGIN:DAYLIGHT
TZOFFSETFROM:-0500
TZOFFSETTO:-0400
TZNAME:EDT
DTSTART:20250309T070000
END:DAYLIGHT
BEGIN:STANDARD
TZOFFSETFROM:-0400
TZOFFSETTO:-0500
TZNAME:EST
DTSTART:20251102T060000
END:STANDARD
END:VTIMEZONE
BEGIN:VEVENT
DTSTART;TZID=America/New_York:20251002T193000
DTEND;TZID=America/New_York:20251002T210000
DTSTAMP:20260422T134113
CREATED:20250930T155724Z
LAST-MODIFIED:20250930T155940Z
UID:14815-1759433400-1759438800@cultural.edu.pe
SUMMARY:Guitarra Solista en Concierto
DESCRIPTION:🎶 Guitarra Solista en Concierto 🎶 ✨\nUna velada musical para celebrar los 80 años de vida institucional del Conservatorio Regional de Música Luis Duncker Lavalle. \n📖 Sobre el recitalEl escenario del Teatro del Centro Cultural de Arequipa se llenará de armonías universales con un repertorio para guitarra solista que recorre distintas épocas y estilos de la música culta.En esta noche especial\, los estudiantes de la especialidad de Guitarra del Conservatorio demostrarán su talento interpretando obras de grandes maestros como Heitor Villalobos\, J.S. Bach\, Daniel Fortea\, J.K. Merz\, Francisco Tárrega\, Fernando Sor\, Roland Dyens\, entre otros. \n🎸 IntérpretesJéremin Ccalachu · Josué Velásquez · Michael Perlacio · Yhon Calsín · Joaquín Arias · Álvaro Narel · Sebastián Márquez \n🎼 OrganizaciónEl concierto está bajo la dirección académica del maestro Juan Avendaño Rubín de Celis\, docente del Conservatorio Regional de Música Luis Duncker Lavalle. \n🤝 PatrocinaCentro Cultural Peruano Norteamericano \n📍 Lugar:\nTeatro\, Calle Melgar 109 \n📅 Fecha\nJueves 02 de octubre \n🕖 Hora\n7:30 p.m. \n🎟️ INGRESO LIBRE\n¡Los esperamos! 🤩 \n 
URL:https://cultural.edu.pe/eventos/guitarra-solista-en-concierto/
LOCATION:Teatro del Cultural\, Calle Melgar 109\, Arequipa\, Arequipa\, 04001\, Perú
CATEGORIES:Artes escénicas,Música,Presentaciones
ATTACH;FMTTYPE=image/jpeg:https://cultural.edu.pe/wp-content/uploads/2025/09/Guitarra-solista-Web.jpg
END:VEVENT
END:VCALENDAR