BEGIN:VCALENDAR
VERSION:2.0
PRODID:-//Cultural Arequipa - ECPv6.0.13//NONSGML v1.0//EN
CALSCALE:GREGORIAN
METHOD:PUBLISH
X-ORIGINAL-URL:https://cultural.edu.pe
X-WR-CALDESC:Eventos para Cultural Arequipa
REFRESH-INTERVAL;VALUE=DURATION:PT1H
X-Robots-Tag:noindex
X-PUBLISHED-TTL:PT1H
BEGIN:VTIMEZONE
TZID:America/New_York
BEGIN:DAYLIGHT
TZOFFSETFROM:-0500
TZOFFSETTO:-0400
TZNAME:EDT
DTSTART:20240310T070000
END:DAYLIGHT
BEGIN:STANDARD
TZOFFSETFROM:-0400
TZOFFSETTO:-0500
TZNAME:EST
DTSTART:20241103T060000
END:STANDARD
END:VTIMEZONE
BEGIN:VEVENT
DTSTART;TZID=America/New_York:20240920T193000
DTEND;TZID=America/New_York:20240920T193000
DTSTAMP:20260423T142040
CREATED:20240724T215314Z
LAST-MODIFIED:20240919T192211Z
UID:10436-1726860600-1726860600@cultural.edu.pe
SUMMARY:Concierto: ISQUN “El espejo del alma”
DESCRIPTION:🌟 ¡No te pierdas esta experiencia musical inolvidable! 🌟\nTe invitamos a disfrutar de «ISQUN: El espejo del alma» con Renata Flores\, un innovador concierto donde el Hip Hop y el Rap se unen al quechua para crear una fusión única y poderosa. 💪 Ella te llevará por un recorrido histórico a través de canciones inspiradas en figuras como Francisca Pizarro\, María Parado de Bellido y Beatriz Clara Coya\, y en las mujeres valientes de hoy. 🌟 ¡Un espectáculo de primera\, acompañado de bailarines que realizan con gran entrega cada interpretación! 🕺💃 \n📅 Fecha\nViernes 20 de septiembre \n📍 Ubicación\nTeatro Fénix\, Gral. Morán 104 \n🎬 Inicio de presentación\n19:30 h \n🎟️Adquiere tus entradas AQUÍ antes de que se agoten:\n🔹Precio de entrada pre-venta (hasta el lunes 09 de septiembre): \n◾️ Vip: S/ 70 \n◾️ Platea: S/ 30 \n◾️ Covachas: S/ 30 \n◾️ Palcos: S/ 15 \n🔹Precio de entrada regular: \n◾️ Vip: S/ 80 \n◾️ Platea: S/ 40 \n◾️ Covachas: S/ 40 \n◾️ Palcos: S/ 25 \n✨Auspician:\nHostal La Casa de Melgar y Zingaro Restaurante \n📞 Para mayor información:\n958 328 047 \n🎓 Colaboradores y Estudiantes del Cultural:\n20% de descuento \n¡Los esperamos! 😉
URL:https://cultural.edu.pe/eventos/isqun-el-espejo-del-alma/
LOCATION:Teatro Fénix\, Gral. Móran 104\, Arequipa\, Arequipa\, 04001\, Perú
CATEGORIES:Artes escénicas
ATTACH;FMTTYPE=image/jpeg:https://cultural.edu.pe/wp-content/uploads/2024/07/Oficial-RF.jpg
END:VEVENT
BEGIN:VEVENT
DTSTART;TZID=America/New_York:20240926T193000
DTEND;TZID=America/New_York:20240926T193000
DTSTAMP:20260423T142040
CREATED:20240724T214642Z
LAST-MODIFIED:20240919T162536Z
UID:10428-1727379000-1727379000@cultural.edu.pe
SUMMARY:Obra de teatro: "7 años"
DESCRIPTION:🌟 ¡No te pierdas la obra de teatro del año! 🌟\nTe invitamos a disfrutar de la obra de teatro «7 años». Donde nos narra la historia de cuatro amigos\, que a su vez son socios de una exitosa empresa\, se reúnen una madrugada para tomar la decisión más difícil que han enfrentado en sus vidas. Esta elección no solo afectará de manera decisiva a la compañía que han construido por dos décadas\, sino que\, en última instancia\, terminará amenazando los cimientos mismos de su relación. Este es el punto de partida que nos proponen los autores de la obra\, José Cabeza y Julia Fontana\, para emprender el sinuoso camino de descubrimiento y entender hasta dónde nos puede llevar la ambición\, la mezquindad y el egoísmo\, velados quizás momentáneamente por el éxito y la riqueza; pero que finalmente se revelan frente a la situación extrema y el temor a perderlo todo. \nDirector:\nRoberto Ángeles \nEn escena:\n\nRoberto Moll\nJorge Céspedes\nErnesto González Quattrini\nJackie Vásquez\nOscar López Arias\n\n📅 Fecha\nJueves 26 de septiembre \nViernes 27 de septiembre \n📍 Ubicación\nTeatro del Cultural\, Melgar 109 \n🎬 Inicio de presentación\n19:30 h \n👤 Público\nDe 14 años a más \n🎟️ Adquiere tus entradas a través de Joinnus antes de que se agoten:\nENTRADAS DISPONIBLES DANDO CLICK AQUI \n🔹Precio de entrada pre-venta (hasta el lunes 16 de septiembre): \n◾️ Platea Baja: S/ 40 \n◾️ Platea Alta: S/ 30 \n◾️ Mezzanine: S/ 20 \n🔹Precio de entrada regular: \n◾️ Platea Baja: S/ 50 \n◾️ Platea Alta: S/ 40 \n◾️ Mezzanine: S/ 30 \n✨Auspician:\nAbsalon Estilistas\, Hostal La Casa de Melgar y Zingaro Restaurante \n📞 Para mayor información:\n958 328 047 \n🎓 Colaboradores y Estudiantes del Cultural:\n20% de descuento \n¡Los esperamos! 😉
URL:https://cultural.edu.pe/eventos/obra-de-teatro-7-anos/
LOCATION:Teatro del Cultural\, Calle Melgar 109\, Arequipa\, Arequipa\, 04001\, Perú
CATEGORIES:Artes escénicas
ATTACH;FMTTYPE=image/jpeg:https://cultural.edu.pe/wp-content/uploads/2024/07/7anos1.jpg
END:VEVENT
END:VCALENDAR