BEGIN:VCALENDAR
VERSION:2.0
PRODID:-//Cultural Arequipa - ECPv6.0.13//NONSGML v1.0//EN
CALSCALE:GREGORIAN
METHOD:PUBLISH
X-ORIGINAL-URL:https://cultural.edu.pe
X-WR-CALDESC:Eventos para Cultural Arequipa
REFRESH-INTERVAL;VALUE=DURATION:PT1H
X-Robots-Tag:noindex
X-PUBLISHED-TTL:PT1H
BEGIN:VTIMEZONE
TZID:America/New_York
BEGIN:DAYLIGHT
TZOFFSETFROM:-0500
TZOFFSETTO:-0400
TZNAME:EDT
DTSTART:20240310T070000
END:DAYLIGHT
BEGIN:STANDARD
TZOFFSETFROM:-0400
TZOFFSETTO:-0500
TZNAME:EST
DTSTART:20241103T060000
END:STANDARD
END:VTIMEZONE
BEGIN:VEVENT
DTSTART;TZID=America/New_York:20240522T193000
DTEND;TZID=America/New_York:20240522T193000
DTSTAMP:20260423T202013
CREATED:20240416T155056Z
LAST-MODIFIED:20240423T145327Z
UID:9930-1716406200-1716406200@cultural.edu.pe
SUMMARY:Obra de teatro "La omisión de la familia Coleman"
DESCRIPTION:🎭🌟 ¡Te invitamos a una experiencia teatral inolvidable en el Cultural!\n¡No te pierdas la oportunidad de presenciar una de las obras más aclamadas de Argentina\, ahora en una propuesta íntima y muy Arequipeña! Esta galardonada producción ha recorrido más de 24 países\, conquistando el corazón de la crítica y del público en cada escenario donde se ha presentado. \nCon una temporada de 12 funciones agotadas en la casona teatrando\, con más de 600 espectadores cautivados por su magia\, «La Omisión De la familia Coleman» de Claudio Tolcachir se traslada al Teatro Fénix en 3 funciones imperdibles\, ¡llevando a 1456 espectadores en un viaje emocionante y lleno de sorpresas! \n📆 Fecha:\nMiércoles\, 22 y 29 de mayo \n🕜Hora:\n19:15 hrs. \n📍 Lugar:\nTeatro del Cultural \n📝Sinopsis:\n📖🎬 «La Omisión De la familia Coleman» narra la historia de una familia disfuncional que vive al borde del abismo\, atrapada en una casa que los aísla y los sofoca. Con un humor negro y absurdo\, la obra muestra las miserias\, los secretos y las ilusiones de unos personajes que buscan desesperadamente escapar de su realidad\, pero que descubren que no pueden dejar de ser parte de ella. \n¡No te pierdas esta oportunidad única de disfrutar del teatro en su máxima expresión! 🎭✨ \n🎟️ Entradas:\n🏛️ Disponibles en Joinnus. ¡Reserva la tuya antes de que se agoten! \n🎫 Detalles de las entradas: \n– Hora de cierre de la venta: A la hora de inicio de la función.\n– Precio de la entrada en preventa\, hasta el viernes 03 de mayo: \n– Platea: S/. 25\n– Platea Alta: S/. 15\n– Mezanine: S/. 15 \n– Precio de la entrada:\n– Platea: S/. 35\n– Platea Alta: S/. 25\n– Mezanine: S/. 25 \n– Stock por entrada:\n– Platea: 128\n– Platea Alta: 76\n– Mezanine: 48 \n¡Hazte con tus entradas y prepárate para una noche de emociones\, risas y reflexiones en el Teatro del Cultural! 🎭🌟
URL:https://cultural.edu.pe/eventos/obra-de-teatro-la-omision-de-la-familia-coleman/
LOCATION:Teatro del Cultural\, Calle Melgar 109\, Arequipa\, Arequipa\, 04001\, Perú
CATEGORIES:Artes escénicas
ATTACH;FMTTYPE=image/png:https://cultural.edu.pe/wp-content/uploads/2024/04/Obra-de-Teatro.png
END:VEVENT
END:VCALENDAR