BEGIN:VCALENDAR
VERSION:2.0
PRODID:-//Cultural Arequipa - ECPv6.0.13//NONSGML v1.0//EN
CALSCALE:GREGORIAN
METHOD:PUBLISH
X-WR-CALNAME:Cultural Arequipa
X-ORIGINAL-URL:https://cultural.edu.pe
X-WR-CALDESC:Eventos para Cultural Arequipa
REFRESH-INTERVAL;VALUE=DURATION:PT1H
X-Robots-Tag:noindex
X-PUBLISHED-TTL:PT1H
BEGIN:VTIMEZONE
TZID:America/New_York
BEGIN:DAYLIGHT
TZOFFSETFROM:-0500
TZOFFSETTO:-0400
TZNAME:EDT
DTSTART:20210314T070000
END:DAYLIGHT
BEGIN:STANDARD
TZOFFSETFROM:-0400
TZOFFSETTO:-0500
TZNAME:EST
DTSTART:20211107T060000
END:STANDARD
END:VTIMEZONE
BEGIN:VEVENT
DTSTART;TZID=America/New_York:20211218T160000
DTEND;TZID=America/New_York:20211218T163000
DTSTAMP:20260425T141131
CREATED:20211201T203413Z
LAST-MODIFIED:20211201T203413Z
UID:6097-1639843200-1639845000@cultural.edu.pe
SUMMARY:Cuentacuentos: Catalina y el deseo de Navidad
DESCRIPTION:Adaptación del cuento de Pedro Pablo Sacristán 6 años a +  \n  \nEl deseo de Catalina para conseguir todos los regalos posibles la llevará a perder a sus amigos. ¿Valdrá la pena tener tantos juguetes si no hay con quien jugar?
URL:https://cultural.edu.pe/eventos/catalina-y-el-deseo-de-navidad/
LOCATION:Facebook Live\, Perú
CATEGORIES:Artes escénicas
ATTACH;FMTTYPE=image/jpeg:https://cultural.edu.pe/wp-content/uploads/2021/12/catalina-y-el-deseo-de-navidad.jpg
END:VEVENT
BEGIN:VEVENT
DTSTART;TZID=America/New_York:20211225T160000
DTEND;TZID=America/New_York:20211225T163000
DTSTAMP:20260425T141131
CREATED:20211201T202154Z
LAST-MODIFIED:20211201T202154Z
UID:6094-1640448000-1640449800@cultural.edu.pe
SUMMARY:Cuentacuentos: Hombrecillo de jengibre\, ¡Corre!
DESCRIPTION:Cuento tradicional para niños. Es un cuento corto ideal para leer en Navidad y enseñarles a los niños que no siempre se gana. Estas festividades\, Laberinto Teatro nos trae la historia de una galleta de jengibre que cobra vida\, pero que muchos personajes corren detrás de ella para comerla. ¿Qué pasará? No te pierdas el desenlace de esta divertida y navideña puesta en escena.
URL:https://cultural.edu.pe/eventos/cuentacuentos-hombrecillo-de-jengibre-corre/
LOCATION:Facebook Live\, Perú
CATEGORIES:Artes escénicas
ATTACH;FMTTYPE=image/jpeg:https://cultural.edu.pe/wp-content/uploads/2021/12/hombrecillo-de-jengibre-corre.jpg
END:VEVENT
END:VCALENDAR