BEGIN:VCALENDAR
VERSION:2.0
PRODID:-//Cultural Arequipa - ECPv6.0.13//NONSGML v1.0//EN
CALSCALE:GREGORIAN
METHOD:PUBLISH
X-WR-CALNAME:Cultural Arequipa
X-ORIGINAL-URL:https://cultural.edu.pe
X-WR-CALDESC:Eventos para Cultural Arequipa
REFRESH-INTERVAL;VALUE=DURATION:PT1H
X-Robots-Tag:noindex
X-PUBLISHED-TTL:PT1H
BEGIN:VTIMEZONE
TZID:America/New_York
BEGIN:DAYLIGHT
TZOFFSETFROM:-0500
TZOFFSETTO:-0400
TZNAME:EDT
DTSTART:20210314T070000
END:DAYLIGHT
BEGIN:STANDARD
TZOFFSETFROM:-0400
TZOFFSETTO:-0500
TZNAME:EST
DTSTART:20211107T060000
END:STANDARD
END:VTIMEZONE
BEGIN:VEVENT
DTSTART;TZID=America/New_York:20210619T160000
DTEND;TZID=America/New_York:20210619T163000
DTSTAMP:20260425T230336
CREATED:20210604T201906Z
LAST-MODIFIED:20210604T201906Z
UID:5460-1624118400-1624120200@cultural.edu.pe
SUMMARY:Cuentacuentos virtual: El pequeño zapateador
DESCRIPTION:El sueño de Salvador es convertirse en un gran zapateador como su padre\, y en el camino a lograrlo aprende mucho sobre la cultura afroperuana y el orgullo de pertenecer a ella.
URL:https://cultural.edu.pe/eventos/el-pequeno-zapateador/
LOCATION:Facebook Live\, Perú
CATEGORIES:Artes escénicas
ATTACH;FMTTYPE=image/jpeg:https://cultural.edu.pe/wp-content/uploads/2021/06/cuentacuentos-el-pequeno-zapateador.jpg
END:VEVENT
BEGIN:VEVENT
DTSTART;TZID=America/New_York:20210626T160000
DTEND;TZID=America/New_York:20210626T163000
DTSTAMP:20260425T230336
CREATED:20210604T205343Z
LAST-MODIFIED:20210604T205343Z
UID:5466-1624723200-1624725000@cultural.edu.pe
SUMMARY:Cuentacuentos virtual: El erizo y los globos de colores
DESCRIPTION:Este cuento de El Erizo y los globos de colores trata de un simpático erizo que se encuentra una caja llena de globos de colores y quiere inflarlos para poder jugar
URL:https://cultural.edu.pe/eventos/el-erizo-y-los-globos-de-colores/
LOCATION:Facebook Live\, Perú
CATEGORIES:Artes escénicas
ATTACH;FMTTYPE=image/jpeg:https://cultural.edu.pe/wp-content/uploads/2021/06/cuentacuentos-el-erizo-y-los-globos-de-colores-2.jpg
END:VEVENT
END:VCALENDAR